BEGIN:VCALENDAR
VERSION:2.0
PRODID:-//wp-events-plugin.com//6.6.4.4//EN
BEGIN:VEVENT
UID:33@ramedapharma-ir.com
DTSTART:20210420T000000Z
DTEND:20210422T000000Z
DTSTAMP:20240222T090010Z
URL:https://ramedapharma-ir.com/events/rencap-esg-conference/
SUMMARY:RenCap ESG Conference
DESCRIPTION:
END:VEVENT
END:VCALENDAR