BEGIN:VCALENDAR
VERSION:2.0
PRODID:-//wp-events-plugin.com//6.6.4.4//EN
BEGIN:VEVENT
UID:63@ramedapharma-ir.com
DTSTART:20200218T000000Z
DTEND:20200218T000000Z
DTSTAMP:20240222T111311Z
URL:https://ramedapharma-ir.com/events/rameda-4q19-earnings-conference-cal
 l-invitation/
SUMMARY:Rameda 4Q19 Earnings Conference Call Invitation
DESCRIPTION:
END:VEVENT
END:VCALENDAR