BEGIN:VCALENDAR
VERSION:2.0
PRODID:-//wp-events-plugin.com//6.6.4.4//EN
BEGIN:VEVENT
UID:8@ramedapharma-ir.com
DTSTART;VALUE=DATE:20230515
DTEND;VALUE=DATE:20230516
DTSTAMP:20240222T065248Z
URL:https://ramedapharma-ir.com/events/rameda-1q23-earnings-conference-cal
 l/
SUMMARY:Rameda 1Q23 Earnings Conference Call
DESCRIPTION:
END:VEVENT
END:VCALENDAR