BEGIN:VCALENDAR
VERSION:2.0
PRODID:-//wp-events-plugin.com//6.6.4.4//EN
BEGIN:VEVENT
UID:31@ramedapharma-ir.com
DTSTART:20210506T000000Z
DTEND:20210506T000000Z
DTSTAMP:20240222T081811Z
URL:https://ramedapharma-ir.com/events/rameda-1q21-earnings-conference-cal
 l/
SUMMARY:Rameda 1Q21 Earnings Conference Call
DESCRIPTION:
END:VEVENT
END:VCALENDAR