BEGIN:VCALENDAR
VERSION:2.0
PRODID:-//wp-events-plugin.com//6.6.4.4//EN
BEGIN:VEVENT
UID:67@ramedapharma-ir.com
DTSTART:20200205T000000Z
DTEND:20200206T000000Z
DTSTAMP:20240222T111616Z
URL:https://ramedapharma-ir.com/events/hsbc-10th-annual-mena-conference-du
 bai/
SUMMARY:HSBC 10th Annual MENA Conference – Dubai
DESCRIPTION:
END:VEVENT
END:VCALENDAR