BEGIN:VCALENDAR
VERSION:2.0
PRODID:-//wp-events-plugin.com//6.6.4.4//EN
BEGIN:VEVENT
UID:68@ramedapharma-ir.com
DTSTART:20200205T000000Z
DTEND:20200206T000000Z
DTSTAMP:20240222T111644Z
URL:https://ramedapharma-ir.com/ar/events/%d9%85%d8%a4%d8%aa%d9%85%d8%b1-h
 sbc-%d8%a7%d9%84%d8%b3%d9%86%d9%88%d9%8a-%d8%a7%d9%84%d8%b9%d8%a7%d8%b4%d8
 %b1-%d9%84%d8%a3%d8%b3%d9%88%d8%a7%d9%82-%d8%a7%d9%84%d8%b4%d8%b1%d9%82-%d
 8%a7%d9%84%d8%a3/
SUMMARY:مؤتمر HSBC السنوي العاشر لأسواق الشرق 
 الأوسط وشمال أفريقيا - دبي
DESCRIPTION:
END:VEVENT
END:VCALENDAR