BEGIN:VCALENDAR
VERSION:2.0
PRODID:-//wp-events-plugin.com//6.6.4.4//EN
BEGIN:VEVENT
UID:66@ramedapharma-ir.com
DTSTART:20200212T000000Z
DTEND:20200213T000000Z
DTSTAMP:20240222T111523Z
URL:https://ramedapharma-ir.com/ar/events/%d9%85%d8%a4%d8%aa%d9%85%d8%b1-%
 d8%a5%d9%86%d9%81%d8%b3%d8%aa%d9%8a%d9%83-%d8%a7%d9%84%d8%a7%d8%b3%d8%aa%d
 8%ab%d9%85%d8%a7%d8%b1%d9%8a-investec-pan-africa-conference/
SUMMARY:مؤتمر إنفستيك الاستثماري Investec Pan Africa 
 Conference
DESCRIPTION:
END:VEVENT
END:VCALENDAR